BEGIN:VCALENDAR
VERSION:2.0
X-WR-CALNAME:Collectes de déchets en porte à parte de Collecte déchets LÉGLISE - ZONE 1 (MELLIER, LOUFTÉMONT,...)
BEGIN:VEVENT
DTSTART:20260423
SUMMARY:Déchets organiques et résiduels
END:VEVENT
BEGIN:VEVENT
DTSTART:20260428
SUMMARY:PMC
END:VEVENT
BEGIN:VEVENT
DTSTART:20260507
SUMMARY:Déchets organiques et résiduels
END:VEVENT
BEGIN:VEVENT
DTSTART:20260512
SUMMARY:PMC
END:VEVENT
BEGIN:VEVENT
DTSTART:20260521
SUMMARY:Déchets organiques et résiduels
END:VEVENT
BEGIN:VEVENT
DTSTART:20260522
SUMMARY:Papiers-cartons
END:VEVENT
BEGIN:VEVENT
DTSTART:20260526
SUMMARY:PMC
END:VEVENT
BEGIN:VEVENT
DTSTART:20260604
SUMMARY:Déchets organiques et résiduels
END:VEVENT
BEGIN:VEVENT
DTSTART:20260609
SUMMARY:PMC
END:VEVENT
BEGIN:VEVENT
DTSTART:20260618
SUMMARY:Déchets organiques et résiduels
END:VEVENT
BEGIN:VEVENT
DTSTART:20260623
SUMMARY:PMC
END:VEVENT
BEGIN:VEVENT
DTSTART:20260702
SUMMARY:Papiers-cartons, Déchets organiques et résiduels
END:VEVENT
BEGIN:VEVENT
DTSTART:20260707
SUMMARY:PMC
END:VEVENT
BEGIN:VEVENT
DTSTART:20260716
SUMMARY:Déchets organiques et résiduels
END:VEVENT
BEGIN:VEVENT
DTSTART:20260730
SUMMARY:Déchets organiques et résiduels
END:VEVENT
BEGIN:VEVENT
DTSTART:20260804
SUMMARY:PMC
END:VEVENT
BEGIN:VEVENT
DTSTART:20260813
SUMMARY:Déchets organiques et résiduels
END:VEVENT
BEGIN:VEVENT
DTSTART:20260818
SUMMARY:PMC
END:VEVENT
BEGIN:VEVENT
DTSTART:20260827
SUMMARY:Déchets organiques et résiduels
END:VEVENT
BEGIN:VEVENT
DTSTART:20260901
SUMMARY:PMC, Papiers-cartons
END:VEVENT
BEGIN:VEVENT
DTSTART:20260910
SUMMARY:Déchets organiques et résiduels
END:VEVENT
BEGIN:VEVENT
DTSTART:20260915
SUMMARY:PMC
END:VEVENT
BEGIN:VEVENT
DTSTART:20260924
SUMMARY:Déchets organiques et résiduels
END:VEVENT
BEGIN:VEVENT
DTSTART:20260929
SUMMARY:PMC
END:VEVENT
BEGIN:VEVENT
DTSTART:20261008
SUMMARY:Déchets organiques et résiduels
END:VEVENT
BEGIN:VEVENT
DTSTART:20261013
SUMMARY:PMC
END:VEVENT
BEGIN:VEVENT
DTSTART:20261022
SUMMARY:Déchets organiques et résiduels
END:VEVENT
BEGIN:VEVENT
DTSTART:20261027
SUMMARY:PMC
END:VEVENT
BEGIN:VEVENT
DTSTART:20261105
SUMMARY:Déchets organiques et résiduels
END:VEVENT
BEGIN:VEVENT
DTSTART:20261110
SUMMARY:PMC
END:VEVENT
BEGIN:VEVENT
DTSTART:20261119
SUMMARY:Déchets organiques et résiduels
END:VEVENT
BEGIN:VEVENT
DTSTART:20261124
SUMMARY:PMC, Papiers-cartons
END:VEVENT
BEGIN:VEVENT
DTSTART:20261203
SUMMARY:Déchets organiques et résiduels
END:VEVENT
BEGIN:VEVENT
DTSTART:20261208
SUMMARY:PMC
END:VEVENT
BEGIN:VEVENT
DTSTART:20261217
SUMMARY:Déchets organiques et résiduels
END:VEVENT
BEGIN:VEVENT
DTSTART:20261222
SUMMARY:PMC
END:VEVENT
BEGIN:VEVENT
DTSTART:20261231
SUMMARY:Déchets organiques et résiduels
END:VEVENT
END:VCALENDAR
