BEGIN:VCALENDAR
VERSION:2.0
X-WR-CALNAME:Collectes de déchets en porte à parte de Collecte déchets STAVELOT - ZONE 1 (VILLAGES)
BEGIN:VEVENT
DTSTART:20260420
SUMMARY:Déchets organiques et résiduels
END:VEVENT
BEGIN:VEVENT
DTSTART:20260427
SUMMARY:Déchets organiques et résiduels
END:VEVENT
BEGIN:VEVENT
DTSTART:20260504
SUMMARY:Déchets organiques et résiduels
END:VEVENT
BEGIN:VEVENT
DTSTART:20260511
SUMMARY:Déchets organiques et résiduels
END:VEVENT
BEGIN:VEVENT
DTSTART:20260515
SUMMARY:PMC
END:VEVENT
BEGIN:VEVENT
DTSTART:20260518
SUMMARY:Déchets organiques et résiduels
END:VEVENT
BEGIN:VEVENT
DTSTART:20260523
SUMMARY:Déchets organiques et résiduels
END:VEVENT
BEGIN:VEVENT
DTSTART:20260529
SUMMARY:PMC
END:VEVENT
BEGIN:VEVENT
DTSTART:20260601
SUMMARY:Déchets organiques et résiduels
END:VEVENT
BEGIN:VEVENT
DTSTART:20260608
SUMMARY:Déchets organiques et résiduels
END:VEVENT
BEGIN:VEVENT
DTSTART:20260612
SUMMARY:PMC
END:VEVENT
BEGIN:VEVENT
DTSTART:20260615
SUMMARY:Déchets organiques et résiduels
END:VEVENT
BEGIN:VEVENT
DTSTART:20260622
SUMMARY:Déchets organiques et résiduels
END:VEVENT
BEGIN:VEVENT
DTSTART:20260624
SUMMARY:Papiers-cartons
END:VEVENT
BEGIN:VEVENT
DTSTART:20260626
SUMMARY:PMC
END:VEVENT
BEGIN:VEVENT
DTSTART:20260629
SUMMARY:Déchets organiques et résiduels
END:VEVENT
BEGIN:VEVENT
DTSTART:20260706
SUMMARY:Déchets organiques et résiduels
END:VEVENT
BEGIN:VEVENT
DTSTART:20260710
SUMMARY:PMC
END:VEVENT
BEGIN:VEVENT
DTSTART:20260713
SUMMARY:Déchets organiques et résiduels
END:VEVENT
BEGIN:VEVENT
DTSTART:20260720
SUMMARY:Déchets organiques et résiduels
END:VEVENT
BEGIN:VEVENT
DTSTART:20260724
SUMMARY:PMC
END:VEVENT
BEGIN:VEVENT
DTSTART:20260727
SUMMARY:Déchets organiques et résiduels
END:VEVENT
BEGIN:VEVENT
DTSTART:20260803
SUMMARY:Déchets organiques et résiduels
END:VEVENT
BEGIN:VEVENT
DTSTART:20260807
SUMMARY:PMC
END:VEVENT
BEGIN:VEVENT
DTSTART:20260810
SUMMARY:Déchets organiques et résiduels
END:VEVENT
BEGIN:VEVENT
DTSTART:20260817
SUMMARY:Déchets organiques et résiduels
END:VEVENT
BEGIN:VEVENT
DTSTART:20260821
SUMMARY:PMC
END:VEVENT
BEGIN:VEVENT
DTSTART:20260824
SUMMARY:Déchets organiques et résiduels
END:VEVENT
BEGIN:VEVENT
DTSTART:20260831
SUMMARY:Déchets organiques et résiduels
END:VEVENT
BEGIN:VEVENT
DTSTART:20260904
SUMMARY:PMC
END:VEVENT
BEGIN:VEVENT
DTSTART:20260907
SUMMARY:Déchets organiques et résiduels
END:VEVENT
BEGIN:VEVENT
DTSTART:20260914
SUMMARY:Déchets organiques et résiduels
END:VEVENT
BEGIN:VEVENT
DTSTART:20260916
SUMMARY:Papiers-cartons
END:VEVENT
BEGIN:VEVENT
DTSTART:20260918
SUMMARY:PMC
END:VEVENT
BEGIN:VEVENT
DTSTART:20260921
SUMMARY:Déchets organiques et résiduels
END:VEVENT
BEGIN:VEVENT
DTSTART:20260928
SUMMARY:Déchets organiques et résiduels
END:VEVENT
BEGIN:VEVENT
DTSTART:20261002
SUMMARY:PMC
END:VEVENT
BEGIN:VEVENT
DTSTART:20261005
SUMMARY:Déchets organiques et résiduels
END:VEVENT
BEGIN:VEVENT
DTSTART:20261012
SUMMARY:Déchets organiques et résiduels
END:VEVENT
BEGIN:VEVENT
DTSTART:20261016
SUMMARY:PMC
END:VEVENT
BEGIN:VEVENT
DTSTART:20261019
SUMMARY:Déchets organiques et résiduels
END:VEVENT
BEGIN:VEVENT
DTSTART:20261026
SUMMARY:Déchets organiques et résiduels
END:VEVENT
BEGIN:VEVENT
DTSTART:20261030
SUMMARY:PMC
END:VEVENT
BEGIN:VEVENT
DTSTART:20261102
SUMMARY:Déchets organiques et résiduels
END:VEVENT
BEGIN:VEVENT
DTSTART:20261109
SUMMARY:Déchets organiques et résiduels
END:VEVENT
BEGIN:VEVENT
DTSTART:20261113
SUMMARY:PMC
END:VEVENT
BEGIN:VEVENT
DTSTART:20261116
SUMMARY:Déchets organiques et résiduels
END:VEVENT
BEGIN:VEVENT
DTSTART:20261123
SUMMARY:Déchets organiques et résiduels
END:VEVENT
BEGIN:VEVENT
DTSTART:20261127
SUMMARY:PMC
END:VEVENT
BEGIN:VEVENT
DTSTART:20261130
SUMMARY:Déchets organiques et résiduels
END:VEVENT
BEGIN:VEVENT
DTSTART:20261207
SUMMARY:Déchets organiques et résiduels
END:VEVENT
BEGIN:VEVENT
DTSTART:20261211
SUMMARY:PMC
END:VEVENT
BEGIN:VEVENT
DTSTART:20261214
SUMMARY:Déchets organiques et résiduels
END:VEVENT
BEGIN:VEVENT
DTSTART:20261221
SUMMARY:Déchets organiques et résiduels
END:VEVENT
BEGIN:VEVENT
DTSTART:20261223
SUMMARY:Papiers-cartons
END:VEVENT
BEGIN:VEVENT
DTSTART:20261228
SUMMARY:Déchets organiques et résiduels
END:VEVENT
END:VCALENDAR
